BEGIN:VCALENDAR
VERSION:2.0
PRODID:-//Bossman Rides - ECPv6.15.20//NONSGML v1.0//EN
CALSCALE:GREGORIAN
METHOD:PUBLISH
X-ORIGINAL-URL:https://bossmanrides.com
X-WR-CALDESC:Events for Bossman Rides
REFRESH-INTERVAL;VALUE=DURATION:PT1H
X-Robots-Tag:noindex
X-PUBLISHED-TTL:PT1H
BEGIN:VTIMEZONE
TZID:America/New_York
BEGIN:DAYLIGHT
TZOFFSETFROM:-0500
TZOFFSETTO:-0400
TZNAME:EDT
DTSTART:20250309T070000
END:DAYLIGHT
BEGIN:STANDARD
TZOFFSETFROM:-0400
TZOFFSETTO:-0500
TZNAME:EST
DTSTART:20251102T060000
END:STANDARD
BEGIN:DAYLIGHT
TZOFFSETFROM:-0500
TZOFFSETTO:-0400
TZNAME:EDT
DTSTART:20260308T070000
END:DAYLIGHT
BEGIN:STANDARD
TZOFFSETFROM:-0400
TZOFFSETTO:-0500
TZNAME:EST
DTSTART:20261101T060000
END:STANDARD
BEGIN:DAYLIGHT
TZOFFSETFROM:-0500
TZOFFSETTO:-0400
TZNAME:EDT
DTSTART:20270314T070000
END:DAYLIGHT
BEGIN:STANDARD
TZOFFSETFROM:-0400
TZOFFSETTO:-0500
TZNAME:EST
DTSTART:20271107T060000
END:STANDARD
END:VTIMEZONE
BEGIN:VEVENT
DTSTART;TZID=America/New_York:20260509T140000
DTEND;TZID=America/New_York:20260509T190000
DTSTAMP:20260421T113131
CREATED:20260312T165043Z
LAST-MODIFIED:20260312T165230Z
UID:21645-1778335200-1778353200@bossmanrides.com
SUMMARY:Bossman Rides Bike Blessing
DESCRIPTION:BR Presents: Blessing of the Bikes 🏍️ \nKick off the riding season with Bossman Rides at KimTam Park at Melanie Springs. Riders from across Northeast Ohio are invited to bring their bikes for the annual Blessing of the Bikes\, led by Pastor Randy Baker of Akron Bible Church\, for a safe riding season ahead. \n📅 May 9⏰ 2:00 PM📍 KimTam Park – Uniontown\, OH \nBob’s Hamburger on Wheels will be on site. \nAll riders welcome.
URL:https://bossmanrides.com/event/bossman-rides-bike-blessing/
LOCATION:KimTam Park at Melanie Springs – Uniontown\, OH\, 2881 canton rd\, uniontown\, OH\, 44685\, United States
CATEGORIES:Rally
END:VEVENT
BEGIN:VEVENT
DTSTART;TZID=America/New_York:20260521T173000
DTEND;TZID=America/New_York:20260521T220000
DTSTAMP:20260421T113131
CREATED:20260305T185230Z
LAST-MODIFIED:20260306T004104Z
UID:21605-1779384600-1779400800@bossmanrides.com
SUMMARY:Bossman Rides & GAMC Bike Night – KimTam Park
DESCRIPTION:Kickstands down and midweek stress off. \nJoin Bossman Rides and GAMC every Wednesday night for Bike Night at KimTam Park. Ride in\, grab a cold drink\, meet fellow riders\, and enjoy a laid-back night by the lake with the local biker community. \nWe’ll have bikes\, music\, good food\, and our crowd-favorite Biker Olympics where riders can test their skills\, compete for bragging rights\, and have a little fun along the way. \nWhether you ride in with your crew or just want to hang out\, everyone is welcome. \nLocation:\nKimTam Park at Melanie Springs\n2881 Canton Rd\nUniontown\, Ohio \nHosted by Bossman Rides & GAMC\nRiding with purpose for the 22 & 1 and supporting the veteran community.
URL:https://bossmanrides.com/event/bossman-rides-bike-night-kimtam/
LOCATION:KimTam Park at Melanie Springs – Uniontown\, OH\, 2881 canton rd\, uniontown\, OH\, 44685\, United States
CATEGORIES:Bike Night
END:VEVENT
END:VCALENDAR